BEGIN:VCALENDAR
VERSION:2.0
PRODID:-//Obywatele RP - ECPv4.6.19//NONSGML v1.0//EN
CALSCALE:GREGORIAN
METHOD:PUBLISH
X-WR-CALNAME:Obywatele RP
X-ORIGINAL-URL:https://obywatelerp.org
X-WR-CALDESC:Events for Obywatele RP
BEGIN:VEVENT
DTSTART;TZID=Europe/Warsaw:20180529T081500
DTEND;TZID=Europe/Warsaw:20180529T120000
DTSTAMP:20180627T224601
CREATED:20180519T134409Z
LAST-MODIFIED:20180519T134409Z
UID:10029-1527581700-1527595200@obywatelerp.org
SUMMARY:WROCŁAW rozprawa V W 551/18
DESCRIPTION:29 maja o godz. 8:45 w sali 243 rozpoczyna się kolejne posiedzenie sądu w sprawie Izy Witowskiej.\nIza została oskarżona o to\, że 23 października 2017r. we Wrocławiu\, na ul. Trzemeskiej 12 zorganizowała pikietę wsparcia\, czyli o wykroczenie z art. 52 § 2 pkt 2 kw. \nSpotykamy się pod Sądem Rejonowym dla Wrocławia Śródmieścia\, ul. Podwale 30. \n
URL:https://obywatelerp.org/event/wroclaw-rozprawa-v-w-551-18-2/
LOCATION:ul. Podwale 30\, Wrocław\, dolnośląskie\, 50-040\, Poland
CATEGORIES:ROZPRAWY
END:VEVENT
BEGIN:VEVENT
DTSTART;TZID=Europe/Warsaw:20180529T100000
DTEND;TZID=Europe/Warsaw:20180529T160000
DTSTAMP:20180627T224601
CREATED:20180424T202308Z
LAST-MODIFIED:20180424T202308Z
UID:9536-1527588000-1527609600@obywatelerp.org
SUMMARY:WARSZAWA rozprawa sądowa XI W 1997/17
DESCRIPTION:29 maja o godz. 10:30 w sali 242 odbędzie się kolejna rozprawa dotycząca wydarzeń pod Sejmem (16/17 grudnia 2016). Tym razem podczas rozprawy przesłuchiwani będą kolejni świadkowie. \nZarzuty z art. 52 § 3 pkt 3 kw i inne postawiono 13 osobom.\nSpotykamy się przed Sądem Rejonowym dla Warszawy-Śródmieścia\, wejście od ul. Żurawiej. \n
URL:https://obywatelerp.org/event/warszawa-rozprawa-sadowa-xi-w-1997-17-4/
LOCATION:Marszałkowska 82\, Warszawa\, Mazowsze\, 00-517\, Polska
CATEGORIES:ROZPRAWY
END:VEVENT
BEGIN:VEVENT
DTSTART;TZID=Europe/Warsaw:20180529T102000
DTEND;TZID=Europe/Warsaw:20180529T110000
DTSTAMP:20180627T224601
CREATED:20180513T131813Z
LAST-MODIFIED:20180513T131813Z
UID:9889-1527589200-1527591600@obywatelerp.org
SUMMARY:WROCŁAW rozprawa sądowa V W 699/18
DESCRIPTION:29 maja\, o godz. 10:50\, w sali 274 rozpoczyna się rozprawa w związku z wydarzeniami 11 listopada 2017 r. we Wrocławiu.\nJacek Zabokrzycki jest obwiniony o to\, że stojąc wspólnie z innymi osobami na jezdni i blokując trasę przemarszu przeszkodził w przebiegu niezakazanego zgromadzenia\, czyli o wykroczenie z art. 52 § 2 pkt. 1 kw. \nSpotykamy się przed Sądem Rejonowym dla Wrocławia Śródmieścia\, ul. Podwale 30. \n
URL:https://obywatelerp.org/event/wroclaw-rozprawa-sadowa-v-w-699-18/
LOCATION:ul. Podwale 30\, Wrocław\, dolnośląskie\, 50-040\, Poland
CATEGORIES:ROZPRAWY
END:VEVENT
BEGIN:VEVENT
DTSTART;TZID=Europe/Warsaw:20180529T103000
DTEND;TZID=Europe/Warsaw:20180529T160000
DTSTAMP:20180627T224601
CREATED:20180419T184345Z
LAST-MODIFIED:20180422T121620Z
UID:9463-1527589800-1527609600@obywatelerp.org
SUMMARY:WROCŁAW rozprawa II W 475/18
DESCRIPTION:29 maja\, o godz. 11:00\, w sali 274 rozpoczyna się rozprawa w związku z wydarzeniami 11 listopada 2017 r. we Wrocławiu.\nDagmara Drozd\, Patryk Iwanicki\, Bartosz Gawroński\, Włodzimierz Komisarczyk\, Anna i Małgorzata Farynowska są obwinieni o to\, że na ul. Kazimierza Wielkiego\, stojąc wspólnie z innymi osobami na jezdni i blokując trasę przemarszu przeszkodzili w przebiegu niezakazanego zgromadzenia\, czyli o wykroczenie z art. 52 § 2 pkt. 1 kw. \nSpotykamy się przed Sądem Rejonowym dla Wrocławia Śródmieścia\, ul. Podwale 30. \n
URL:https://obywatelerp.org/event/wroclaw-rozprawa-ii-w-475-18/
LOCATION:ul. Podwale 30\, Wrocław\, dolnośląskie\, 50-040\, Poland
CATEGORIES:ROZPRAWY
END:VEVENT
BEGIN:VEVENT
DTSTART;TZID=Europe/Warsaw:20180529T113000
DTEND;TZID=Europe/Warsaw:20180529T163000
DTSTAMP:20180627T224601
CREATED:20180419T184551Z
LAST-MODIFIED:20180419T184551Z
UID:9465-1527593400-1527611400@obywatelerp.org
SUMMARY:WARSZAWA posiedzenie odwoławcze X Kz 424/18
DESCRIPTION:29 maja\, o godz. 12:00\, w sali 237 (korytarz J\, piętro II) rozpoczyna się posiedzenie odwoławcze\, na którym rozpatrywane będzie zażalenie oskarżyciela publicznego. \n13 marca 2018 r. – SSR Łukasz Biliński umorzył postępowanie wobec Tadeusza Jakrzewskiego\, Beaty Geppert\, Marka\, Agnieszki i Leokadii Jung\, obwinionych o blokowanie drogi podczas protestów w obronie niezależności sądów w lipcu 2017 r.\, tj o czyn z art. 90 kw\, sprawa XI W 3767/17 \n
URL:https://obywatelerp.org/event/warszawa-posiedzenie-odwolawcze-x-kz-424-18/
LOCATION:al. Solidarności 127\, Warszawa\, mazowieckie\, 00-898\, Polska
CATEGORIES:POSIEDZENIA
END:VEVENT
BEGIN:VEVENT
DTSTART;TZID=Europe/Warsaw:20180529T120000
DTEND;TZID=Europe/Warsaw:20180529T143000
DTSTAMP:20180627T224601
CREATED:20180517T211449Z
LAST-MODIFIED:20180517T211449Z
UID:10019-1527595200-1527604200@obywatelerp.org
SUMMARY:WARSZAWA rozprawa sądowa V K 10/18
DESCRIPTION:29 maja\, o godz. 12:30\, w sali 379 rozpoczyna się rozprawa z powództwa Anki.\nMec. Kaczyński pełnomocnik pokrzywdzonej złożył skargę o popełnieniu przestępstwa ściganego z oskarżenia prywatnego. Sprawa dotyczy napaści dokonanej przez czterech nietrzeźwych mężczyzn\, 12 listopada 2017 r. pod PKiN. Anka sprzątała znicze w miejscu samospalenia Piotra Szczęsnego. \nSąd Rejonowy dla Warszawy-Śródmieścia\, wejście od ul. Żurawiej. \n
URL:https://obywatelerp.org/event/warszawa-rozprawa-sadowa-v-k-10-18/
LOCATION:Marszałkowska 82\, Warszawa\, Mazowsze\, 00-517\, Polska
CATEGORIES:ROZPRAWY
END:VEVENT
BEGIN:VEVENT
DTSTART;TZID=Europe/Warsaw:20180529T134000
DTEND;TZID=Europe/Warsaw:20180529T150000
DTSTAMP:20180627T224601
CREATED:20180519T153651Z
LAST-MODIFIED:20180519T153651Z
UID:10033-1527601200-1527606000@obywatelerp.org
SUMMARY:WARSZAWA posiedzenie odwoławcze X Kz 499/18
DESCRIPTION:29 maja\, o godz. 14:10\, w sali 352 (korytarz H\, piętro III) rozpoczyna się posiedzenie odwoławcze\, na którym rozpatrywane będzie zażalenie oskarżyciela publicznego. \n15 marca 2018 r. – SSR Łukasz Biliński umorzył postępowanie wobec Aleksandra\, Izabeli Możdrzeń\, Magdaleny\, Konstantego\, Diany\, Nawojki\, Juliusza\, Macieja\, Wojciecha\, Wacława\, Piotra\, Andrzeja\, Konrada\, Krzysztofa\, Tomasza i Łukasza obwinionych o blokowanie drogi podczas protestów w obronie niezależności sądów w lipcu 2017 r.\, tj o czyn z art. 90 kw.\, sprawa XI W 3407/17 \n
URL:https://obywatelerp.org/event/warszawa-posiedzenie-odwolawcze-x-kz-499-18/
LOCATION:al. Solidarności 127\, Warszawa\, mazowieckie\, 00-898\, Polska
CATEGORIES:POSIEDZENIA
END:VEVENT
BEGIN:VEVENT
DTSTART;TZID=Europe/Warsaw:20180530T091500
DTEND;TZID=Europe/Warsaw:20180530T160000
DTSTAMP:20180627T224601
CREATED:20180430T191259Z
LAST-MODIFIED:20180519T155126Z
UID:9649-1527671700-1527696000@obywatelerp.org
SUMMARY:WROCŁAW rozprawa II W 436/18
DESCRIPTION:30 maja o godz. 9:45 w sali 58 rozpoczyna się kolejna rozprawa Miłosza Kłosowicza.\nMiłosz został oskarżony o to\, że 18 grudnia 2017r. we Wrocławiu\, na ul. Trzemeskiej 12 „wspólnie i w porozumieniu z inną osobą\, wystawił na widok publiczny bez zgody” transparenty o treści: MAMY PRAWA\, PRAWA FIZYKI\, PRAWA LOGIKI\, PRAWA CZŁOWIEKA\, OBYWATELE RP oraz NIE DAMY SIĘ ZASTRASZYĆ\, czyli o wykroczenie z art. 65a § 1 kw. Na rozprawie zaplanowane są przesłuchania świadków\, m.in. Ewy Trojanowskiej\, Małgorzaty Farynowskiej. \nSpotykamy się pod Sądem Rejonowym dla Wrocławia Śródmieścia\, ul. Podwale 30. \n
URL:https://obywatelerp.org/event/wroclaw-rozprawa-ii-w-436-18-2/
LOCATION:ul. Podwale 30\, Wrocław\, dolnośląskie\, 50-040\, Poland
CATEGORIES:ROZPRAWY
END:VEVENT
BEGIN:VEVENT
DTSTART;TZID=Europe/Warsaw:20180604T120000
DTEND;TZID=Europe/Warsaw:20180604T130000
DTSTAMP:20180627T224601
CREATED:20180513T194453Z
LAST-MODIFIED:20180513T194453Z
UID:9893-1528113600-1528117200@obywatelerp.org
SUMMARY:HAJNÓWKA posiedzenie Sądu
DESCRIPTION:Posiedzenie sądu\, na którym rozpatrywane będzie złożone przez Michała Wojcieszczuka zażalenie na zatrzymanie przez policję 24 lutego 2018 r. w Hajnówce\, rozpoczyna się o godz. 12:30\, sala I. \nSąd Karny w Hajnówce\, ul. Warszawska 87 \n
URL:https://obywatelerp.org/event/hajnowka-posiedzenie-sadu/
LOCATION:ul. Warszawska 87\, Hajnówka\, podlaskie\, 17-200\, Polska
CATEGORIES:POSIEDZENIA
END:VEVENT
BEGIN:VEVENT
DTSTART;TZID=Europe/Warsaw:20180605T120000
DTEND;TZID=Europe/Warsaw:20180605T160000
DTSTAMP:20180627T224601
CREATED:20180509T222144Z
LAST-MODIFIED:20180516T173843Z
UID:9794-1528200000-1528214400@obywatelerp.org
SUMMARY:WARSZAWA posiedzenie odwoławcze X Kz 467/18
DESCRIPTION:5 czerwca\, o godz. 12:30\, w sali 237 (korytarz J\, piętro II) rozpoczyna się posiedzenie odwoławcze\, na którym rozpatrywane będzie zażalenie oskarżyciela publicznego. \n13 marca 2018 r. – SSR Łukasz Biliński umorzył postępowanie wobec Iwony Wyszogrodzkiej\, Pawła\, Uli\, Janusza i Piotra obwinionych o blokowanie drogi podczas protestów w obronie niezależności sądów w lipcu 2017 r.\, tj o czyn z art. 90 kw\, sprawa XI W 3890/17 \n
URL:https://obywatelerp.org/event/warszawa-posiedzenie-odwolawcze-x-kz-467-18/
LOCATION:al. Solidarności 127\, Warszawa\, mazowieckie\, 00-898\, Polska
CATEGORIES:POSIEDZENIA
END:VEVENT
BEGIN:VEVENT
DTSTART;TZID=Europe/Warsaw:20180606T093000
DTEND;TZID=Europe/Warsaw:20180606T143000
DTSTAMP:20180627T224601
CREATED:20180530T211439Z
LAST-MODIFIED:20180530T211439Z
UID:10353-1528277400-1528295400@obywatelerp.org
SUMMARY:WARSZAWA posiedzenie odwoławcze X Kz 562/18
DESCRIPTION:6 czerwca\, o godz. 10:00\, w sali 237 (korytarz J\, piętro II) rozpoczyna się posiedzenie odwoławcze\, na którym rozpatrywane będzie zażalenie oskarżyciela publicznego. \n20 marca 2018 r. – SSR Łukasz Biliński umorzył postępowanie wobec Grzegorza Łacha\, Ewy Błaszczyk i Kajetana Wróblewskiego obwinionych o zakłócanie niezakazanej demonstracji 10 czerwca 2017 r.\, tj o czyn z art. 52 §2 pkt.1 kw\, sprawa XI W 2595/17 \n
URL:https://obywatelerp.org/event/warszawa-posiedzenie-odwolawcze-x-kz-562-18/
LOCATION:al. Solidarności 127\, Warszawa\, mazowieckie\, 00-898\, Polska
CATEGORIES:POSIEDZENIA
END:VEVENT
BEGIN:VEVENT
DTSTART;TZID=Europe/Warsaw:20180607T121500
DTEND;TZID=Europe/Warsaw:20180607T140000
DTSTAMP:20180627T224601
CREATED:20180409T120647Z
LAST-MODIFIED:20180409T120647Z
UID:9235-1528373700-1528380000@obywatelerp.org
SUMMARY:WARSZAWA posiedzenie Sądu
DESCRIPTION:7 czerwca\, o godz. 12:30\, w sali 1163\, rozpoczyna się kolejne posiedzenie sądu\, na którym będą rozpatrywane złożone przez Wojtka Kinasiewicza i Ankę Jaszuńską zażalenia na zatrzymanie przez policję 21 października 2017r.\, na ul. Bytomskiej. \nSąd Rejonowy dla Warszawy-Żoliborza\, ul. Kocjana 3 \n
URL:https://obywatelerp.org/event/warszawa-posiedzenie-sadu-28/
LOCATION:ul. Kocjana 3\, Warszawa\, mazowieckie\, 01-473\, Polska
CATEGORIES:POSIEDZENIA
END:VEVENT
BEGIN:VEVENT
DTSTART;TZID=Europe/Warsaw:20180608T134500
DTEND;TZID=Europe/Warsaw:20180608T160000
DTSTAMP:20180627T224601
CREATED:20180605T214920Z
LAST-MODIFIED:20180605T214920Z
UID:10482-1528465500-1528473600@obywatelerp.org
SUMMARY:WROCŁAW rozprawa sądowa II W 414/18
DESCRIPTION:8 czerwca\, o godz. 14:15 w sali 58 rozpoczyna się rozprawa Patryka Iwanickiego\, obwinionego o to\, że 27 października 2017 r. „na chodniku przy ul. Trzemeskiej 12\, przed Komisariatem Policji Wrocław Stare Miasto bez zgody zarządzającego tym miejscem wystawił na widok publiczny baner o treści MAMY PRAWA. PRAWA FIZYKI\, PRAWA LOGIKI\, PRAWA CZŁOWIEKA. OBYWATELE RP\, tj. o czyn z art. 63a §1 kw.” \n
URL:https://obywatelerp.org/event/wroclaw-rozprawa-sadowa-ii-w-414-18/
LOCATION:ul. Podwale 30\, Wrocław\, dolnośląskie\, 50-040\, Poland
CATEGORIES:ROZPRAWY
END:VEVENT
BEGIN:VEVENT
DTSTART;TZID=Europe/Warsaw:20180612T113000
DTEND;TZID=Europe/Warsaw:20180612T143000
DTSTAMP:20180627T224601
CREATED:20180521T193006Z
LAST-MODIFIED:20180521T193006Z
UID:10078-1528803000-1528813800@obywatelerp.org
SUMMARY:WARSZAWA posiedzenie Sądu
DESCRIPTION:12 czerwca\, o godz. 12:00\, w sali 475\, rozpoczyna się posiedzenie sądu\, na którym będzie rozpatrywane złożone przez Wojtka Kinasiewicza zażalenie na decyzję umorzenia śledztwa przez Prokuraturę.\nSprawa dotyczy wydarzeń z 10 marca 2017 r.\, kiedy to policja bezprawnie zepchnęła uczestników zgromadzenia ze zgłoszonego miejsca demonstracji. W kwietniu zostało złożone zawiadomienie o podejrzeniu popełnieniu przestępstwa przez funkcjonariuszy policji (art. 231 §1 kk). Śledztwo zostało wszczęte w lipcu\, a pod koniec zeszłego roku prokurator Dariusz Ziółkowski z Prokuratury Rejonowej Warszawa Żoliborz je umorzył. Zostało złożone zażalenie na tą decyzję. \n
URL:https://obywatelerp.org/event/warszawa-posiedzenie-sadu-30/
LOCATION:Marszałkowska 82\, Warszawa\, Mazowsze\, 00-517\, Polska
CATEGORIES:POSIEDZENIA
END:VEVENT
BEGIN:VEVENT
DTSTART;TZID=Europe/Warsaw:20180614T083000
DTEND;TZID=Europe/Warsaw:20180614T103000
DTSTAMP:20180627T224601
CREATED:20180611T192226Z
LAST-MODIFIED:20180611T192226Z
UID:10602-1528965000-1528972200@obywatelerp.org
SUMMARY:ŁÓDŹ rozprawa sądowa III C 306/18
DESCRIPTION:14 czerwca\, o godz. 9:00\, w sali 429 rozpoczyna się rozprawa z powództwa funkcjonariuszki policji Katarzyny W. przeciwko p. Ewie o zadośćuczynienie za naruszenie dóbr osobistych. \nSprawa dotyczy akcji ulotkowej „Budzik” w Łowiczu 2 lutego 2018 r.\, grupa osób rozdających ulotki została wylegitymowana\, co pozwana zarejestrowała i udostępniła na portalu społecznościowym. \n
URL:https://obywatelerp.org/event/lodz-rozprawa-sadowa-iii-c-306-18/
LOCATION:al. Tadeusza Kościuszki 107/109\, Łódź\, łódzkie\, 90-928\, Polska
CATEGORIES:ROZPRAWY
END:VEVENT
BEGIN:VEVENT
DTSTART;TZID=Europe/Warsaw:20180615T093000
DTEND;TZID=Europe/Warsaw:20180615T120000
DTSTAMP:20180627T224601
CREATED:20180608T191044Z
LAST-MODIFIED:20180608T191044Z
UID:10528-1529055000-1529064000@obywatelerp.org
SUMMARY:WARSZAWA posiedzenie Sądu
DESCRIPTION:15 czerwca\, o godz. 10:00\, w sali 1163\, zostanie ogłoszone postanowienie w sprawie złożonego przez Wojtka Kinasiewicza i Ankę zażalenia na zatrzymanie przez policję 21 października 2017r.\, na ul. Bytomskiej. \nSąd Rejonowy dla Warszawy-Żoliborza\, ul. Kocjana 3 \n
URL:https://obywatelerp.org/event/warszawa-posiedzenie-sadu-31/
LOCATION:ul. Kocjana 3\, Warszawa\, mazowieckie\, 01-473\, Polska
CATEGORIES:POSIEDZENIA
END:VEVENT
BEGIN:VEVENT
DTSTART;TZID=Europe/Warsaw:20180615T100000
DTEND;TZID=Europe/Warsaw:20180615T120000
DTSTAMP:20180627T224601
CREATED:20180517T220349Z
LAST-MODIFIED:20180517T220349Z
UID:10026-1529056800-1529064000@obywatelerp.org
SUMMARY:WROCŁAW posiedzenie Sądu II W 464/18
DESCRIPTION:15 czerwca o godz. 10:30 w sali 58 odbędzie się posiedzenie sądu w przedmiocie umorzenia postępowania dotyczącego pikiety solidarnościowej przed komisariatem policji na ul.Trzemeskiej. \nObwinieni: Małgorzata Farynowska\, Bartosz Gawroński\, Patryk Iwanicki\, Paweł Drozd\, Włodzimierz Komisarczyk \n
URL:https://obywatelerp.org/event/wroclaw-posiedzenie-sadu-ii-w-464-18/
LOCATION:ul. Podwale 30\, Wrocław\, dolnośląskie\, 50-040\, Poland
CATEGORIES:POSIEDZENIA
END:VEVENT
BEGIN:VEVENT
DTSTART;TZID=Europe/Warsaw:20180615T103000
DTEND;TZID=Europe/Warsaw:20180615T160000
DTSTAMP:20180627T224601
CREATED:20180519T162121Z
LAST-MODIFIED:20180519T162121Z
UID:10036-1529058600-1529078400@obywatelerp.org
SUMMARY:WARSZAWA rozprawa V K 719/17
DESCRIPTION:15 czerwca\, o godz. 11:00\, w sali 379 rozpoczyna się rozprawa\, w której stroną pokrzywdzoną jest p. Renata.\n10 czerwca 2017 r. p. Renata została zaatakowana przez jedną z uczestniczek miesięcznicy\, w konsekwencji p. Renata wróciła do domu ze złamanym palcem. Sprawa została wszczęta z urzędu. \nSąd Rejonowy dla Warszawy-Śródmieścia\, wejście od ul. Żurawiej. \n
URL:https://obywatelerp.org/event/warszawa-rozprawa-v-k-719-17/
LOCATION:Marszałkowska 82\, Warszawa\, Mazowsze\, 00-517\, Polska
CATEGORIES:ROZPRAWY
END:VEVENT
BEGIN:VEVENT
DTSTART;TZID=Europe/Warsaw:20180618T100000
DTEND;TZID=Europe/Warsaw:20180618T160000
DTSTAMP:20180627T224601
CREATED:20180424T203217Z
LAST-MODIFIED:20180424T203217Z
UID:9538-1529316000-1529337600@obywatelerp.org
SUMMARY:WARSZAWA rozprawa sądowa II K 715/17
DESCRIPTION:18 czerwca\, o godz. 10:30\, w sali 258 odbędzie się kolejna rozprawa Adama Czerwońca oskarżonego o znieważenie policjanta\, czyli o czyn z art. 226 par. 1 kk.\nSprawa dotyczy wydarzeń z 1 sierpnia 2017 r.\, kiedy to grupa Obywateli RP protestowała przeciwko marszowi ONR w rocznicę wybuchu Powstania Warszawskiego. Protest polegał na niesieniu transparentów o treści antyfaszystowskiej. Interweniowała policja. \nSpotykamy się pod Sądem Rejonowym dla Warszawy-Śródmieścia\, wejście od ul. Żurawiej. \n
URL:https://obywatelerp.org/event/warszawa-rozprawa-sadowa-ii-k-715-17-2/
LOCATION:Marszałkowska 82\, Warszawa\, Mazowsze\, 00-517\, Polska
CATEGORIES:ROZPRAWY
END:VEVENT
BEGIN:VEVENT
DTSTART;TZID=Europe/Warsaw:20180618T130000
DTEND;TZID=Europe/Warsaw:20180618T160000
DTSTAMP:20180627T224601
CREATED:20180529T211814Z
LAST-MODIFIED:20180529T211814Z
UID:10318-1529326800-1529337600@obywatelerp.org
SUMMARY:WARSZAWA rozprawa sądowa XI W 1997/17
DESCRIPTION:18 czerwca\, o godz. 13:30\, w sali 450 odbędzie się kolejna rozprawa dotycząca wydarzeń pod Sejmem (16/17 grudnia 2016). Podczas rozprawy przesłuchiwani będą kolejni świadkowie oraz najprawdopodobniej zostanie ogłoszony wyrok. \nZarzuty z art. 52 § 3 pkt 3 kw i inne postawiono 13 osobom.\nSpotykamy się przed Sądem Rejonowym dla Warszawy-Śródmieścia\, wejście od ul. Żurawiej. \n
URL:https://obywatelerp.org/event/warszawa-rozprawa-sadowa-xi-w-1997-17-5/
LOCATION:Marszałkowska 82\, Warszawa\, Mazowsze\, 00-517\, Polska
CATEGORIES:ROZPRAWY
END:VEVENT
BEGIN:VEVENT
DTSTART;TZID=Europe/Warsaw:20180618T130000
DTEND;TZID=Europe/Warsaw:20180618T160000
DTSTAMP:20180627T224601
CREATED:20180602T151837Z
LAST-MODIFIED:20180602T151837Z
UID:10391-1529326800-1529337600@obywatelerp.org
SUMMARY:WARSZAWA rozprawa XI W 5325/17
DESCRIPTION:18 czerwca\, o godz. 13:30\, w sali 358 rozpoczyna się rozprawa p. Doroty obwinionej o blokowanie ruchu podczas lipcowych protestów w obronie sądów\, tj. o czyn z art. 90 kw. \nSpotykamy się przed Sądem Rejonowym dla Warszawy-Śródmieścia\, wejście od ul. Żurawiej. \n
URL:https://obywatelerp.org/event/warszawa-rozprawa-xi-w-5325-17/
LOCATION:Marszałkowska 82\, Warszawa\, Mazowsze\, 00-517\, Polska
CATEGORIES:ROZPRAWY
END:VEVENT
BEGIN:VEVENT
DTSTART;TZID=Europe/Warsaw:20180620T093000
DTEND;TZID=Europe/Warsaw:20180620T140000
DTSTAMP:20180627T224601
CREATED:20180523T200800Z
LAST-MODIFIED:20180523T200800Z
UID:10179-1529487000-1529503200@obywatelerp.org
SUMMARY:WARSZAWA posiedzenie odwoławcze X Kz 572/18
DESCRIPTION:20 czerwca\, o godz. 10:00\, w sali 237 (korytarz J\, piętro II) rozpoczyna się posiedzenie odwoławcze\, na którym rozpatrywane będzie zażalenie oskarżyciela publicznego. \n5 kwietnia 2018 r. – SSR Łukasz Biliński umorzył postępowanie wobec 11 osób: Tomasza\, Mateusza\, Zuzanny\, Jakuba\, Joanny\, Pawła\, Roberta\, Emila\, Aleksandry\, Barbary i Katarzyny obwinionych o blokowanie drogi podczas protestów w obronie niezależności sądów w lipcu 2017 r.\, tj o czyn z art. 90 kw.\, sprawa  XI W 3875/18. \n
URL:https://obywatelerp.org/event/warszawa-posiedzenie-odwolawcze-x-kz-572-18/
LOCATION:al. Solidarności 127\, Warszawa\, mazowieckie\, 00-898\, Polska
CATEGORIES:POSIEDZENIA
END:VEVENT
BEGIN:VEVENT
DTSTART;TZID=Europe/Warsaw:20180620T103000
DTEND;TZID=Europe/Warsaw:20180620T160000
DTSTAMP:20180627T224601
CREATED:20180522T200913Z
LAST-MODIFIED:20180522T200913Z
UID:10120-1529490600-1529510400@obywatelerp.org
SUMMARY:WARSZAWA posiedzenie Sądu V W 6892/17
DESCRIPTION:20 czerwca o godz. 11:00\, w sali P60 rozpoczyna się posiedzenie w przedmiocie umorzenia postępowania wobec Anki\, obwinionej o „zakłócanie spokoju” podczas blokady Generalnej Dyrekcji Lasów Państwowych (protest przeciwko wycince Puszczy Białowieskiej)\, tj o czyn z art. 51 §1kw. \n
URL:https://obywatelerp.org/event/warszawa-posiedzenie-sadu-v-w-6892-17/
LOCATION:Marszałkowska 82\, Warszawa\, mazowieckie\, 00-517\, Polska
CATEGORIES:POSIEDZENIA
END:VEVENT
BEGIN:VEVENT
DTSTART;TZID=Europe/Warsaw:20180620T140000
DTEND;TZID=Europe/Warsaw:20180620T170000
DTSTAMP:20180627T224601
CREATED:20180409T120814Z
LAST-MODIFIED:20180409T120814Z
UID:9237-1529503200-1529514000@obywatelerp.org
SUMMARY:WARSZAWA rozprawa sądowa III W 70/18
DESCRIPTION:20 czerwca\, o godz. 14:30\, w sali 524 rozpoczyna się rozprawa dotycząca „przewodniczenia zgromadzeniu bez wymaganego pozwolenia”\, które odbyło się 21 listopada 2017 r. przy ul. Rakowieckiej 2a\, przed siedzibą MSWiA.\nOskarżeni o czyn z art. 52 §2 pkt. kw: Ewa Borguńska\, Wojciech Kinasiewicz\, Ewa Błaszczyk\, Michał Szymanderski-Pastryk \nObrońcy: adw. Jarosław Kaczyński \nSąd Rejonowy dla Warszawy-Mokotowa\, ul. Ogrodowa 51 \n
URL:https://obywatelerp.org/event/warszawa-rozprawa-sadowa-iii-w-70-18/
LOCATION:ul. Ogrodowa 51\, Warszawa\, mazowieckie\, 00-873\, Poland
CATEGORIES:ROZPRAWY
END:VEVENT
BEGIN:VEVENT
DTSTART;TZID=Europe/Warsaw:20180621T113000
DTEND;TZID=Europe/Warsaw:20180621T150000
DTSTAMP:20180627T224601
CREATED:20180519T135852Z
LAST-MODIFIED:20180519T135852Z
UID:10031-1529580600-1529593200@obywatelerp.org
SUMMARY:WARSZAWA posiedzenie odwoławcze X Kz 580/18
DESCRIPTION:21 czerwca\, o godz. 12:00\, w sali 237 (korytarz J\, piętro II) rozpoczyna się posiedzenie odwoławcze\, na którym rozpatrywane będzie zażalenie oskarżyciela publicznego. \n22 marca 2018 r. – SSR Łukasz Biliński umorzył postępowanie wobec Marcina\, Bartosza Gawrońskiego\, Dariusza\, Karola\, Magdaleny\, Anny\, Joanny\, Bartłomieja\, Agnieszki Dzikowskiej\, Anety Miechowicz\, Aleksandry\, Piotra\, Kamili\, Anny\, Wojciecha i Francesci\, obwinionych o blokowanie drogi podczas protestów w obronie niezależności sądów w lipcu 2017 r.\, tj o czyn z art. 90 kw\, sprawa XI W 3872/17 \n
URL:https://obywatelerp.org/event/warszawa-posiedzenie-odwolawcze-x-kz-580-18/
LOCATION:al. Solidarności 127\, Warszawa\, mazowieckie\, 00-898\, Polska
CATEGORIES:POSIEDZENIA
END:VEVENT
BEGIN:VEVENT
DTSTART;TZID=Europe/Warsaw:20180622T103000
DTEND;TZID=Europe/Warsaw:20180622T123000
DTSTAMP:20180627T224601
CREATED:20180515T202907Z
LAST-MODIFIED:20180515T202907Z
UID:9982-1529663400-1529670600@obywatelerp.org
SUMMARY:WARSZAWA posiedzenie odwoławcze X Kz 495/18
DESCRIPTION:22 czerwca\, o godz. 11:00\, w sali 237\, (korytarz J\, piętro II) rozpoczyna się posiedzenie odwoławcze\, na którym rozpatrywane będzie zażalenie oskarżyciela publicznego. \n20 marca 2018 r. – SSR Łukasz Biliński umorzył postępowanie wobec Agnieszki Markowskiej\, Marii i Bartka Sabeli obwinionych o zakłócanie niezakazanej demonstracji 10 lipca 2017 r.\, tj o czyn z art. 52 §2 pkt.1 kw.\, sprawa XI W 4304/17 \n  \n
URL:https://obywatelerp.org/event/warszawa-posiedzenie-odwolawcze-x-kz-495-18/
LOCATION:al. Solidarności 127\, Warszawa\, mazowieckie\, 00-898\, Polska
CATEGORIES:POSIEDZENIA
END:VEVENT
BEGIN:VEVENT
DTSTART;TZID=Europe/Warsaw:20180625T105000
DTEND;TZID=Europe/Warsaw:20180625T130000
DTSTAMP:20180627T224601
CREATED:20180611T195201Z
LAST-MODIFIED:20180611T195201Z
UID:10611-1529923800-1529931600@obywatelerp.org
SUMMARY:WARSZAWA posiedzenie odwoławcze X Kz 496/18
DESCRIPTION:25 czerwca\, o godz. 11:10\, w sali 352 (korytarz H\, piętro III) rozpoczyna się posiedzenie odwoławcze\, na którym rozpatrywane będzie zażalenie oskarżyciela publicznego. \n22 marca 2018 r. – SSR Łukasz Biliński umorzył postępowanie wobec 5 osób:\nMateusza\, Olafa\, Joanny\, Aleksandry i Karoliny obwinionych o blokowanie drogi podczas protestów w obronie niezależności sądów w lipcu 2017 r.\, tj o czyn z art. 90 kw.\, sprawa XI W 3416/17. \n
URL:https://obywatelerp.org/event/warszawa-posiedzenie-odwolawcze-x-kz-496-18/
LOCATION:al. Solidarności 127\, Warszawa\, mazowieckie\, 00-898\, Polska
CATEGORIES:POSIEDZENIA
END:VEVENT
BEGIN:VEVENT
DTSTART;TZID=Europe/Warsaw:20180625T113000
DTEND;TZID=Europe/Warsaw:20180625T153000
DTSTAMP:20180627T224601
CREATED:20180605T205810Z
LAST-MODIFIED:20180605T205810Z
UID:10466-1529926200-1529940600@obywatelerp.org
SUMMARY:WARSZAWA posiedzenie odwoławcze X Kz 590/18
DESCRIPTION:25 czerwca\, o godz. 12:00\, w sali 237 (korytarz J\, piętro II) rozpoczyna się posiedzenie odwoławcze\, na którym rozpatrywane będzie zażalenie oskarżyciela publicznego. \n5 kwietnia 2018 r. – SSR Łukasz Biliński umorzył postępowanie wobec 15 osób:\nHeleny\, Konrada\, Marty\, Zofii\, Stanisława\, Pawła\, Zofii\, Witolda\, Diany\, Krzysztofa\, Patryka\, Witolda\, Magdaleny\, Martyny i Piotra obwinionych o blokowanie drogi podczas protestów w obronie niezależności sądów w lipcu 2017 r.\, tj o czyn z art. 90 kw.\, sprawa XI W 3420/17. \n
URL:https://obywatelerp.org/event/warszawa-posiedzenie-odwolawcze-x-kz-590-18/
LOCATION:al. Solidarności 127\, Warszawa\, mazowieckie\, 00-898\, Polska
CATEGORIES:POSIEDZENIA
END:VEVENT
BEGIN:VEVENT
DTSTART;TZID=Europe/Warsaw:20180626T113000
DTEND;TZID=Europe/Warsaw:20180626T153000
DTSTAMP:20180627T224601
CREATED:20180608T182222Z
LAST-MODIFIED:20180608T182222Z
UID:10525-1530012600-1530027000@obywatelerp.org
SUMMARY:WROCŁAW rozprawa sądowa V W 696/18
DESCRIPTION:26 czerwca\, o godz. 12:00\, w sali 58 rozpoczyna się posiedzenie sądu w związku z wydarzeniami 11 listopada 2017 r. we Wrocławiu.\nIza Witowska jest obwiniona o to\, że na ul. Kazimierza Wielkiego\, stojąc wspólnie z innymi osobami na jezdni i blokując trasę przemarszu przeszkodziła w przebiegu niezakazanego zgromadzenia\, czyli o wykroczenie z art. 52 § 2 pkt. 1 kw. \nSpotykamy się przed Sądem Rejonowym dla Wrocławia Śródmieścia\, ul. Podwale 30. \n
URL:https://obywatelerp.org/event/wroclaw-rozprawa-sadowa-v-w-696-18/
LOCATION:ul. Podwale 30\, Wrocław\, dolnośląskie\, 50-040\, Poland
CATEGORIES:ROZPRAWY
END:VEVENT
BEGIN:VEVENT
DTSTART;TZID=Europe/Warsaw:20180627T093000
DTEND;TZID=Europe/Warsaw:20180627T140000
DTSTAMP:20180627T224601
CREATED:20180513T130624Z
LAST-MODIFIED:20180513T130624Z
UID:9887-1530091800-1530108000@obywatelerp.org
SUMMARY:WARSZAWA rozprawa sądowa V W 6035/17
DESCRIPTION:27 czerwca\, o godz. 10:00\, w sali A09 rozpoczyna się rozprawa w sprawie napisów o treści: „A ja wolność kocham ponad wszystko” i „19 X 2017 PAMIĘTAMY”\, które zostały namalowane na ul. Nowogrodzkiej\, pod siedzibą PiS\, w październiku 2017 r.\nObwinieni o czyn z art. 63a §1 kw: Wojciech Kinasiewicz\, Anna\, Maciej i Grzegorz\nSąd Rejonowy dla m.st. Warszawy\, ul. Marszałkowska 82 \n
URL:https://obywatelerp.org/event/warszawa-rozprawa-sadowa-v-w-6035-17/
LOCATION:Marszałkowska 82\, Warszawa\, mazowieckie\, 00-517\, Polska
CATEGORIES:ROZPRAWY
END:VEVENT
BEGIN:VEVENT
DTSTART;TZID=Europe/Warsaw:20180627T140000
DTEND;TZID=Europe/Warsaw:20180627T160000
DTSTAMP:20180627T224601
CREATED:20180424T205210Z
LAST-MODIFIED:20180424T205210Z
UID:9540-1530108000-1530115200@obywatelerp.org
SUMMARY:WARSZAWA rozprawa sądowa III W 70/18
DESCRIPTION:27 czerwca\, o godz. 14:30\, w sali 524 rozpoczyna się kolejna rozprawa dotycząca „przewodniczenia zgromadzeniu bez wymaganego pozwolenia”\, które odbyło się 21 listopada 2017 r. przy ul. Rakowieckiej 2a\, przed siedzibą MSWiA.\nOskarżeni o czyn z art. 52 §2 pkt. 2 kw: Ewa Borguńska\, Wojciech Kinasiewicz\, Ewa Błaszczyk\, Michał Szymanderski-Pastryk.\nSąd Rejonowy dla Warszawy-Mokotowa\, ul. Ogrodowa 51 \n
URL:https://obywatelerp.org/event/warszawa-rozprawa-sadowa-iii-w-70-18-2/
LOCATION:ul. Ogrodowa 51\, Warszawa\, mazowieckie\, 00-873\, Poland
CATEGORIES:ROZPRAWY
END:VEVENT
BEGIN:VEVENT
DTSTART;TZID=Europe/Warsaw:20180628T093000
DTEND;TZID=Europe/Warsaw:20180628T120000
DTSTAMP:20180627T224601
CREATED:20180623T104102Z
LAST-MODIFIED:20180623T104102Z
UID:10795-1530178200-1530187200@obywatelerp.org
SUMMARY:WARSZAWA posiedzenie odwoławcze X Kz 679/18
DESCRIPTION:28 czerwca\, o godz. 10:00\, w sali 237 (korytarz J\, piętro II) rozpoczyna się posiedzenie odwoławcze\, na którym rozpatrywane będzie zażalenie oskarżyciela publicznego. \n12 kwietnia 2018 r. – SSR Łukasz Biliński umorzył postępowanie wobec 4 osób: Mikołaja Przybyszewskiego\, Ewy\, Bożeny i Beaty\, obwinionych o zakłócanie niezakazanej demonstracji 10 lipca 2017 r.\, tj o czyn z art. 52 §2 pkt.1 kw.\, sprawa XI W 4191/17 \n
URL:https://obywatelerp.org/event/warszawa-posiedzenie-odwolawcze-x-kz-679-18/
LOCATION:al. Solidarności 127\, Warszawa\, mazowieckie\, 00-898\, Polska
CATEGORIES:ROZPRAWY
END:VEVENT
BEGIN:VEVENT
DTSTART;TZID=Europe/Warsaw:20180629T113000
DTEND;TZID=Europe/Warsaw:20180629T160000
DTSTAMP:20180627T224601
CREATED:20180622T140612Z
LAST-MODIFIED:20180622T140612Z
UID:10784-1530271800-1530288000@obywatelerp.org
SUMMARY:WARSZAWA posiedzenie odwoławcze X Kz 680/18
DESCRIPTION:29 czerwca\, o godz. 12:00\, w sali 237 (korytarz J\, piętro II) rozpoczyna się posiedzenie odwoławcze\, na którym rozpatrywane będzie zażalenie oskarżyciela publicznego. \n17 kwietnia 2018 r. – SSR Łukasz Biliński umorzył postępowanie wobec 4 osób: Roberta\, Iwony Gregorek\, Marka i Izabeli\, obwinionych o zakłócanie niezakazanej demonstracji 10 czerwca 2017 r.\, tj o czyn z art. 52 §2 pkt.1 kw.\, sprawa XI W 2694/17 \n
URL:https://obywatelerp.org/event/warszawa-posiedzenie-odwolawcze-x-kz-680-18/
LOCATION:al. Solidarności 127\, Warszawa\, mazowieckie\, 00-898\, Polska
CATEGORIES:ROZPRAWY
END:VEVENT
END:VCALENDAR